BEGIN:VCALENDAR
VERSION:2.0
PRODID:Events Booking
BEGIN:VEVENT
UID:69e731ab70067
SUMMARY:The Penguin Lessons
DESCRIPTION:Directed by&nbsp\;Peter CattaneoRuntime 1 hr 52 minsWatch the T
 railer&nbsp\;Buy Tickets Online
 Starring Oscar nominee Steve Coogan\, th
 is poignant dramedy from director Peter Cattaneo follows an Englishman's p
 ersonal and political awakening after he adopts a penguin during a catacly
 smic period in Argentine history.
 Monday\, April 7thCLOSED
 Tuesday\, A
 pril 8thCLOSED
 Wednesday\, April 9th5:15 - Main Theater7:10 - Little The
 ater
 Thursday\, April 10th5:15 - Little Theater
 More showtimes to come
 !
DTSTART:20250412T000000Z
DTSTAMP:20250402T020512Z
ORGANIZER;CN=Liberty Hall:MAILTO:matt@silverthreadproductions.com
END:VEVENT
END:VCALENDAR