BEGIN:VCALENDAR
VERSION:2.0
PRODID:Events Booking
BEGIN:VEVENT
UID:69e72f805fe0a
SUMMARY:Marshmallow
DESCRIPTION:Directed by&nbsp\;Daniel DelPurgatorioRuntime 1 hr 33 minsWatch
  the Trailer&nbsp\;
 When a once-fabled campfire tale becomes real\, a gr
 oup of campers uncover a profound secret that questions their very existen
 ce.
 Opening Friday\, April 11th!
DTSTART:20250411T000000Z
DTSTAMP:20250408T040041Z
ORGANIZER;CN=Liberty Hall:MAILTO:matt@silverthreadproductions.com
END:VEVENT
END:VCALENDAR