BEGIN:VCALENDAR
VERSION:2.0
PRODID:Events Booking
BEGIN:VEVENT
UID:69e72f96f079c
SUMMARY:Eephus
DESCRIPTION:Directed by Carson LundRuntime 1 hr 39 minsWatch the Trailer&nb
 sp\;Buy Tickets Online
 A group of middle-aged men plays their last recre
 ational baseball game before their field gets torn down to build a school.
 
 Monday\, April 7thCLOSED
 Tuesday\, April 8thCLOSED
 Wednesday\, Apri
 l 9th5:00 - Little Theater7:30 - Main Theater
 Thursday\, April 10th5:00 
 - Main Theater7:45 - Little Theater
 More showtimes to come!
DTSTART:20250412T000000Z
DTSTAMP:20250402T002614Z
ORGANIZER;CN=Liberty Hall:MAILTO:matt@silverthreadproductions.com
END:VEVENT
END:VCALENDAR